BEGIN:VCALENDAR
VERSION:2.0
PRODID:-//Sixth Avenue Baptist Church - ECPv6.15.12.2//NONSGML v1.0//EN
CALSCALE:GREGORIAN
METHOD:PUBLISH
X-ORIGINAL-URL:https://www.sixthavebaptist.com
X-WR-CALDESC:Events for Sixth Avenue Baptist Church
REFRESH-INTERVAL;VALUE=DURATION:PT1H
X-Robots-Tag:noindex
X-PUBLISHED-TTL:PT1H
BEGIN:VTIMEZONE
TZID:UTC
BEGIN:STANDARD
TZOFFSETFROM:+0000
TZOFFSETTO:+0000
TZNAME:UTC
DTSTART:20240101T000000
END:STANDARD
END:VTIMEZONE
BEGIN:VEVENT
DTSTART;TZID=UTC:20250405T090000
DTEND;TZID=UTC:20250405T150000
DTSTAMP:20260421T115031
CREATED:20250317T141644Z
LAST-MODIFIED:20250317T141644Z
UID:15835-1743843600-1743865200@www.sixthavebaptist.com
SUMMARY:Sew with Us - Grace Missions-Chez Moi & LINKS
DESCRIPTION:
URL:https://www.sixthavebaptist.com/event/sew-with-us-grace-missions-chez-moi-links/
LOCATION:Alabama
END:VEVENT
BEGIN:VEVENT
DTSTART;TZID=UTC:20250406T120000
DTEND;TZID=UTC:20250406T150000
DTSTAMP:20260421T115031
CREATED:20250403T141224Z
LAST-MODIFIED:20250403T141224Z
UID:15887-1743940800-1743951600@www.sixthavebaptist.com
SUMMARY:Doing A New Thing: Ministry with Married Couples
DESCRIPTION:Calling Married Young Adults & Married Young Adult Couples with Children to CONNECT with each other!! \nLet’s Get together and talk about doing Life \n\nDate night & Fun\nBuilding strong relationships\nKids & parenting\ncommunication\nWorship & bible study\nWork & family\n\nApril 6 (after worship\, lite lunch\, 150 & 151) \nSign up\, text 205-234-2513\, count me in with your names
URL:https://www.sixthavebaptist.com/event/doing-a-new-thing-ministry-with-married-couples/
LOCATION:Alabama
END:VEVENT
BEGIN:VEVENT
DTSTART;TZID=UTC:20250412T100000
DTEND;TZID=UTC:20250412T120000
DTSTAMP:20260421T115031
CREATED:20250326T173955Z
LAST-MODIFIED:20250326T224659Z
UID:15868-1744452000-1744459200@www.sixthavebaptist.com
SUMMARY:Renew Annual Marriage Seminar
DESCRIPTION:Register Here: https://docs.google.com/forms/d/e/1FAIpQLSf_bVu4v_39gWt3hYh3J3YUPVmkh1bRRW2QCdZESiQax6JPlQ/viewform?usp=dialog \n 
URL:https://www.sixthavebaptist.com/event/15868/
LOCATION:Alabama
END:VEVENT
BEGIN:VEVENT
DTSTART;TZID=UTC:20250413T093000
DTEND;TZID=UTC:20250413T120000
DTSTAMP:20260421T115031
CREATED:20250410T141741Z
LAST-MODIFIED:20250410T141741Z
UID:15911-1744536600-1744545600@www.sixthavebaptist.com
SUMMARY:Palm Sunday
DESCRIPTION:
URL:https://www.sixthavebaptist.com/event/palm-sunday/
LOCATION:Alabama
END:VEVENT
BEGIN:VEVENT
DTSTART;TZID=UTC:20250417T100000
DTEND;TZID=UTC:20250417T100000
DTSTAMP:20260421T115031
CREATED:20250410T141828Z
LAST-MODIFIED:20250414T191339Z
UID:15913-1744884000-1744884000@www.sixthavebaptist.com
SUMMARY:Maundy Thursday
DESCRIPTION:
URL:https://www.sixthavebaptist.com/event/maundy-thursday/
LOCATION:Alabama
END:VEVENT
BEGIN:VEVENT
DTSTART;TZID=UTC:20250418T173000
DTEND;TZID=UTC:20250418T203000
DTSTAMP:20260421T115031
CREATED:20250317T142022Z
LAST-MODIFIED:20250328T155705Z
UID:15838-1744997400-1745008200@www.sixthavebaptist.com
SUMMARY:Love Feast & (Optional) Peter's Walk
DESCRIPTION:Love Feast: April 18th – 5:30pm – 8:30pm \n\nPeter’s Walk \n        or\nDine – In only\n\nRegister Here or Call 205-251-5173\n\nMenu\nFried & Baked Fish\nFried & Baked Chicken\nGreen Beans\nGreen Salad\nCole Slaw\nRolls & Cornbread\nTea\, Lemonade\, Water\nPeach Cobbler & Pound Cake\n\nDeacons & Deaconess will serve.\n\nRooms Reserved:\nFellowship Hall\nChoir Room\n150 – 151
URL:https://www.sixthavebaptist.com/event/love-feast-peters-walk/
LOCATION:Alabama
END:VEVENT
BEGIN:VEVENT
DTSTART;TZID=UTC:20250420T093000
DTEND;TZID=UTC:20250420T123000
DTSTAMP:20260421T115031
CREATED:20250410T141857Z
LAST-MODIFIED:20250410T141857Z
UID:15916-1745141400-1745152200@www.sixthavebaptist.com
SUMMARY:Easter Sunday Service
DESCRIPTION:
URL:https://www.sixthavebaptist.com/event/easter-sunday-service/
LOCATION:Alabama
END:VEVENT
END:VCALENDAR