BEGIN:VCALENDAR
VERSION:2.0
PRODID:-//Sixth Avenue Baptist Church - ECPv6.15.12.2//NONSGML v1.0//EN
CALSCALE:GREGORIAN
METHOD:PUBLISH
X-ORIGINAL-URL:https://www.sixthavebaptist.com
X-WR-CALDESC:Events for Sixth Avenue Baptist Church
REFRESH-INTERVAL;VALUE=DURATION:PT1H
X-Robots-Tag:noindex
X-PUBLISHED-TTL:PT1H
BEGIN:VTIMEZONE
TZID:UTC
BEGIN:STANDARD
TZOFFSETFROM:+0000
TZOFFSETTO:+0000
TZNAME:UTC
DTSTART:20240101T000000
END:STANDARD
END:VTIMEZONE
BEGIN:VEVENT
DTSTART;TZID=UTC:20251020T071500
DTEND;TZID=UTC:20251020T071500
DTSTAMP:20260419T150448
CREATED:20250612T144349Z
LAST-MODIFIED:20250612T144349Z
UID:16132-1760944500-1760944500@www.sixthavebaptist.com
SUMMARY:Monday Morning Meditation
DESCRIPTION:
URL:https://www.sixthavebaptist.com/event/monday-morning-meditation-16/
LOCATION:Alabama
END:VEVENT
END:VCALENDAR