BEGIN:VCALENDAR
VERSION:2.0
PRODID:-//Sixth Avenue Baptist Church - ECPv6.15.12.2//NONSGML v1.0//EN
CALSCALE:GREGORIAN
METHOD:PUBLISH
X-WR-CALNAME:Sixth Avenue Baptist Church
X-ORIGINAL-URL:https://www.sixthavebaptist.com
X-WR-CALDESC:Events for Sixth Avenue Baptist Church
REFRESH-INTERVAL;VALUE=DURATION:PT1H
X-Robots-Tag:noindex
X-PUBLISHED-TTL:PT1H
BEGIN:VTIMEZONE
TZID:UTC
BEGIN:STANDARD
TZOFFSETFROM:+0000
TZOFFSETTO:+0000
TZNAME:UTC
DTSTART:20240101T000000
END:STANDARD
END:VTIMEZONE
BEGIN:VEVENT
DTSTART;TZID=UTC:20250315T100000
DTEND;TZID=UTC:20250315T100000
DTSTAMP:20260420T175825
CREATED:20250221T145610Z
LAST-MODIFIED:20250221T145610Z
UID:15730-1742032800-1742032800@www.sixthavebaptist.com
SUMMARY:United In Prayer | A Birmingham Prayer Event
DESCRIPTION:Christians are called to unity. It’s important. It was the last thing Jesus prayed for before going to the Cross. We believe Christians in Birmingham are more unified than people might think. That’s why we’re planning a morning to invite Christians from churches all over the city to join us at 6th Avenue Baptist Church to pray for our city. Let’s see what God does\, and let’s show our city that we truly are one (John 17:21). \nThis event is hosted by United? We Pray in partnership with Sixth Avenue Baptist Church\, Dawson Memorial Baptist Church\, Sixteenth Street Baptist Church\, Mountain Brook Community Church\, Faith Chapel\, Bethel Baptist Church\, and Iron City Church. \n\nSpace is Limited. Registration Required\nRegister Here \nhttp://www.sixthavebaptist.com/wp-content/uploads/2025/02/videoplayback.mp4
URL:https://www.sixthavebaptist.com/event/united-in-prayer-a-birmingham-prayer-event/
LOCATION:Sixth Avenue Baptist Church\, 1101 Martin Luther King Jr Dr\, Birmingham\, Alabama\, 35211
END:VEVENT
END:VCALENDAR