BEGIN:VCALENDAR
VERSION:2.0
PRODID:-//Sixth Avenue Baptist Church - ECPv6.15.12.2//NONSGML v1.0//EN
CALSCALE:GREGORIAN
METHOD:PUBLISH
X-WR-CALNAME:Sixth Avenue Baptist Church
X-ORIGINAL-URL:https://www.sixthavebaptist.com
X-WR-CALDESC:Events for Sixth Avenue Baptist Church
REFRESH-INTERVAL;VALUE=DURATION:PT1H
X-Robots-Tag:noindex
X-PUBLISHED-TTL:PT1H
BEGIN:VTIMEZONE
TZID:UTC
BEGIN:STANDARD
TZOFFSETFROM:+0000
TZOFFSETTO:+0000
TZNAME:UTC
DTSTART:20240101T000000
END:STANDARD
END:VTIMEZONE
BEGIN:VEVENT
DTSTART;TZID=UTC:20250302T133000
DTEND;TZID=UTC:20250302T133000
DTSTAMP:20260420T100756
CREATED:20250212T154953Z
LAST-MODIFIED:20250212T154953Z
UID:15693-1740922200-1740922200@www.sixthavebaptist.com
SUMMARY:SABC Singles Virtual Book Club
DESCRIPTION:
URL:https://www.sixthavebaptist.com/event/sabc-singles-virtual-book-club/
LOCATION:Alabama
END:VEVENT
END:VCALENDAR