BEGIN:VCALENDAR
VERSION:2.0
PRODID:-//Sixth Avenue Baptist Church - ECPv6.15.12.2//NONSGML v1.0//EN
CALSCALE:GREGORIAN
METHOD:PUBLISH
X-WR-CALNAME:Sixth Avenue Baptist Church
X-ORIGINAL-URL:https://www.sixthavebaptist.com
X-WR-CALDESC:Events for Sixth Avenue Baptist Church
REFRESH-INTERVAL;VALUE=DURATION:PT1H
X-Robots-Tag:noindex
X-PUBLISHED-TTL:PT1H
BEGIN:VTIMEZONE
TZID:UTC
BEGIN:STANDARD
TZOFFSETFROM:+0000
TZOFFSETTO:+0000
TZNAME:UTC
DTSTART:20240101T000000
END:STANDARD
END:VTIMEZONE
BEGIN:VEVENT
DTSTART;TZID=UTC:20250209T093000
DTEND;TZID=UTC:20250209T123000
DTSTAMP:20260420T112509
CREATED:20250206T195402Z
LAST-MODIFIED:20250206T195402Z
UID:15653-1739093400-1739104200@www.sixthavebaptist.com
SUMMARY:Super Bowl Sunday
DESCRIPTION:🏈How is God calling YOU🏈 to get in the game at Sixth Avenue This Sunday\, wear your favorite team gear and come pumped up to get in the game of volunteering! We have tons of areas for you to sign up to share your gifts and passion – from preschool to senior ministries to teaching or technology. Get in the game and help make a positive impact on our church and community. #SuperBowlSunday #GetInTheGame #RadicalService volunteer training and development will be held in March \n 
URL:https://www.sixthavebaptist.com/event/super-bowl-sunday/
LOCATION:Alabama
END:VEVENT
BEGIN:VEVENT
DTSTART;TZID=UTC:20250209T113000
DTEND;TZID=UTC:20250209T143000
DTSTAMP:20260420T112509
CREATED:20250122T145318Z
LAST-MODIFIED:20250122T145318Z
UID:15604-1739100600-1739111400@www.sixthavebaptist.com
SUMMARY:Forever & Ever\, Amen - Vow Renewal & Reception
DESCRIPTION:https://docs.google.com/forms/u/1/d/e/1FAIpQLSe5nBocxU-Kt4Lm6K9YH6f9o-UGAKckXNaZTf-jKXLjoHM67Q/viewform?usp=dialog \n 
URL:https://www.sixthavebaptist.com/event/forever-ever-amen-vow-renewal-reception/
LOCATION:Alabama
END:VEVENT
END:VCALENDAR